BEGIN:VCALENDAR
VERSION:2.0
PRODID:-//heartwood - ECPv6.15.13.1//NONSGML v1.0//EN
CALSCALE:GREGORIAN
METHOD:PUBLISH
X-WR-CALNAME:heartwood
X-ORIGINAL-URL:https://heartwoodschool1.1212designteam.com
X-WR-CALDESC:Events for heartwood
REFRESH-INTERVAL;VALUE=DURATION:PT1H
X-Robots-Tag:noindex
X-PUBLISHED-TTL:PT1H
BEGIN:VTIMEZONE
TZID:UTC
BEGIN:STANDARD
TZOFFSETFROM:+0000
TZOFFSETTO:+0000
TZNAME:UTC
DTSTART:20240101T000000
END:STANDARD
END:VTIMEZONE
BEGIN:VEVENT
DTSTART;TZID=UTC:20251222T000000
DTEND;TZID=UTC:20260102T000000
DTSTAMP:20260421T182858
CREATED:20251031T020944Z
LAST-MODIFIED:20251031T020944Z
UID:1274-1766361600-1767312000@heartwoodschool1.1212designteam.com
SUMMARY:School Closed (School Office Closed)
DESCRIPTION:
URL:https://heartwoodschool1.1212designteam.com/event/school-closed-school-office-closed-2/
END:VEVENT
END:VCALENDAR