BEGIN:VCALENDAR
VERSION:2.0
PRODID:-//heartwood - ECPv6.15.13.1//NONSGML v1.0//EN
CALSCALE:GREGORIAN
METHOD:PUBLISH
X-ORIGINAL-URL:https://heartwoodschool1.1212designteam.com
X-WR-CALDESC:Events for heartwood
REFRESH-INTERVAL;VALUE=DURATION:PT1H
X-Robots-Tag:noindex
X-PUBLISHED-TTL:PT1H
BEGIN:VTIMEZONE
TZID:UTC
BEGIN:STANDARD
TZOFFSETFROM:+0000
TZOFFSETTO:+0000
TZNAME:UTC
DTSTART:20250101T000000
END:STANDARD
END:VTIMEZONE
BEGIN:VEVENT
DTSTART;VALUE=DATE:20260323
DTEND;VALUE=DATE:20260324
DTSTAMP:20260421T134243
CREATED:20251031T022141Z
LAST-MODIFIED:20251117T064518Z
UID:1279-1774224000-1774310399@heartwoodschool1.1212designteam.com
SUMMARY:Weather Make Up Days (if Needed)
DESCRIPTION:
URL:https://heartwoodschool1.1212designteam.com/event/weather-make-up-days-if-needed/
END:VEVENT
END:VCALENDAR