BEGIN:VCALENDAR
VERSION:2.0
PRODID:-//heartwood - ECPv6.15.13.1//NONSGML v1.0//EN
CALSCALE:GREGORIAN
METHOD:PUBLISH
X-ORIGINAL-URL:https://heartwoodschool1.1212designteam.com
X-WR-CALDESC:Events for heartwood
REFRESH-INTERVAL;VALUE=DURATION:PT1H
X-Robots-Tag:noindex
X-PUBLISHED-TTL:PT1H
BEGIN:VTIMEZONE
TZID:UTC
BEGIN:STANDARD
TZOFFSETFROM:+0000
TZOFFSETTO:+0000
TZNAME:UTC
DTSTART:20250101T000000
END:STANDARD
END:VTIMEZONE
BEGIN:VEVENT
DTSTART;VALUE=DATE:20260413
DTEND;VALUE=DATE:20260418
DTSTAMP:20260421T151827
CREATED:20251031T022246Z
LAST-MODIFIED:20251031T022246Z
UID:497-1776038400-1776470399@heartwoodschool1.1212designteam.com
SUMMARY:School Closed (School Office Closed)
DESCRIPTION:
URL:https://heartwoodschool1.1212designteam.com/event/school-closed-school-office-closed-5/
END:VEVENT
BEGIN:VEVENT
DTSTART;VALUE=DATE:20260525
DTEND;VALUE=DATE:20260526
DTSTAMP:20260421T151827
CREATED:20251031T023149Z
LAST-MODIFIED:20251031T023149Z
UID:503-1779667200-1779753599@heartwoodschool1.1212designteam.com
SUMMARY:School Closed (School Office Closed)
DESCRIPTION:
URL:https://heartwoodschool1.1212designteam.com/event/school-closed-school-office-closed-7/
END:VEVENT
BEGIN:VEVENT
DTSTART;VALUE=DATE:20260529
DTEND;VALUE=DATE:20260530
DTSTAMP:20260421T151827
CREATED:20251031T023249Z
LAST-MODIFIED:20251031T023249Z
UID:505-1780012800-1780099199@heartwoodschool1.1212designteam.com
SUMMARY:Early Release Day for Students 12:00 Dismissal May 29 Last Day of School
DESCRIPTION:
URL:https://heartwoodschool1.1212designteam.com/event/early-release-day-for-students-1200-dismissal-may-29-last-day-of-school-2/
END:VEVENT
BEGIN:VEVENT
DTSTART;VALUE=DATE:20260601
DTEND;VALUE=DATE:20260605
DTSTAMP:20260421T151827
CREATED:20251117T065152Z
LAST-MODIFIED:20251117T065837Z
UID:1289-1780272000-1780617599@heartwoodschool1.1212designteam.com
SUMMARY:Whole Staff PD; School Office Open
DESCRIPTION:
URL:https://heartwoodschool1.1212designteam.com/event/whole-staff-pd-school-office-open-3/
END:VEVENT
BEGIN:VEVENT
DTSTART;VALUE=DATE:20260605
DTEND;VALUE=DATE:20260606
DTSTAMP:20260421T151827
CREATED:20251117T065346Z
LAST-MODIFIED:20251117T065346Z
UID:1293-1780617600-1780703999@heartwoodschool1.1212designteam.com
SUMMARY:School Closed (School Office Open)
DESCRIPTION:
URL:https://heartwoodschool1.1212designteam.com/event/school-closed-school-office-open-2/
END:VEVENT
BEGIN:VEVENT
DTSTART;VALUE=DATE:20260606
DTEND;VALUE=DATE:20260607
DTSTAMP:20260421T151827
CREATED:20251117T065255Z
LAST-MODIFIED:20251117T065255Z
UID:1291-1780704000-1780790399@heartwoodschool1.1212designteam.com
SUMMARY:School Closed (School Office Closed)
DESCRIPTION:
URL:https://heartwoodschool1.1212designteam.com/event/school-closed-school-office-closed-4/
END:VEVENT
BEGIN:VEVENT
DTSTART;VALUE=DATE:20260608
DTEND;VALUE=DATE:20260612
DTSTAMP:20260421T151827
CREATED:20251117T065430Z
LAST-MODIFIED:20251117T065733Z
UID:1295-1780876800-1781222399@heartwoodschool1.1212designteam.com
SUMMARY:School Closed (School Office open)
DESCRIPTION:
URL:https://heartwoodschool1.1212designteam.com/event/school-closed-school-office-closed-4-2/
END:VEVENT
BEGIN:VEVENT
DTSTART;VALUE=DATE:20260612
DTEND;VALUE=DATE:20260613
DTSTAMP:20260421T151827
CREATED:20251117T070420Z
LAST-MODIFIED:20251117T070420Z
UID:1305-1781222400-1781308799@heartwoodschool1.1212designteam.com
SUMMARY:School Closed (School Office Closed)
DESCRIPTION:
URL:https://heartwoodschool1.1212designteam.com/event/school-closed-school-office-closed-4-3/
END:VEVENT
BEGIN:VEVENT
DTSTART;VALUE=DATE:20260615
DTEND;VALUE=DATE:20260619
DTSTAMP:20260421T151827
CREATED:20251117T065536Z
LAST-MODIFIED:20251117T065746Z
UID:1297-1781481600-1781827199@heartwoodschool1.1212designteam.com
SUMMARY:School Closed (School Office open)
DESCRIPTION:
URL:https://heartwoodschool1.1212designteam.com/event/school-closed-school-office-open-4-2-2/
CATEGORIES:School Event
END:VEVENT
BEGIN:VEVENT
DTSTART;VALUE=DATE:20260619
DTEND;VALUE=DATE:20260620
DTSTAMP:20260421T151827
CREATED:20251117T070523Z
LAST-MODIFIED:20251117T070523Z
UID:1307-1781827200-1781913599@heartwoodschool1.1212designteam.com
SUMMARY:School Closed (School Office Closed)
DESCRIPTION:
URL:https://heartwoodschool1.1212designteam.com/event/school-closed-school-office-closed-4-3-2/
END:VEVENT
BEGIN:VEVENT
DTSTART;VALUE=DATE:20260622
DTEND;VALUE=DATE:20260626
DTSTAMP:20260421T151827
CREATED:20251117T070032Z
LAST-MODIFIED:20251117T070032Z
UID:1301-1782086400-1782431999@heartwoodschool1.1212designteam.com
SUMMARY:School Closed (School Office Open)
DESCRIPTION:
URL:https://heartwoodschool1.1212designteam.com/event/school-closed-school-office-open-4-2-2-2/
CATEGORIES:School Event
END:VEVENT
BEGIN:VEVENT
DTSTART;VALUE=DATE:20260626
DTEND;VALUE=DATE:20260627
DTSTAMP:20260421T151827
CREATED:20251117T070604Z
LAST-MODIFIED:20251117T070604Z
UID:1309-1782432000-1782518399@heartwoodschool1.1212designteam.com
SUMMARY:School Closed (School Office Closed)
DESCRIPTION:
URL:https://heartwoodschool1.1212designteam.com/event/school-closed-school-office-closed-4-3-2-2/
CATEGORIES:School Event
END:VEVENT
BEGIN:VEVENT
DTSTART;VALUE=DATE:20260629
DTEND;VALUE=DATE:20260630
DTSTAMP:20260421T151827
CREATED:20251117T070127Z
LAST-MODIFIED:20251117T070215Z
UID:1303-1782691200-1782777599@heartwoodschool1.1212designteam.com
SUMMARY:School Closed (School Office Open)
DESCRIPTION:
URL:https://heartwoodschool1.1212designteam.com/event/school-closed-school-office-ope2-2-2/
CATEGORIES:School Event
END:VEVENT
END:VCALENDAR