BEGIN:VCALENDAR
VERSION:2.0
PRODID:-//heartwood - ECPv6.15.13.1//NONSGML v1.0//EN
CALSCALE:GREGORIAN
METHOD:PUBLISH
X-ORIGINAL-URL:https://heartwoodschool1.1212designteam.com
X-WR-CALDESC:Events for heartwood
REFRESH-INTERVAL;VALUE=DURATION:PT1H
X-Robots-Tag:noindex
X-PUBLISHED-TTL:PT1H
BEGIN:VTIMEZONE
TZID:UTC
BEGIN:STANDARD
TZOFFSETFROM:+0000
TZOFFSETTO:+0000
TZNAME:UTC
DTSTART:20240101T000000
END:STANDARD
END:VTIMEZONE
BEGIN:VEVENT
DTSTART;TZID=UTC:20251219T080000
DTEND;TZID=UTC:20251219T080000
DTSTAMP:20260421T165145
CREATED:20251031T020343Z
LAST-MODIFIED:20251031T020343Z
UID:1273-1766131200-1766131200@heartwoodschool1.1212designteam.com
SUMMARY:Early Release Day for Students 12:00 Dismissal  December 29 Day of School
DESCRIPTION:
URL:https://heartwoodschool1.1212designteam.com/event/early-release-day-for-students-1200-dismissal-may-29-last-day-of-school/
END:VEVENT
BEGIN:VEVENT
DTSTART;VALUE=DATE:20251220
DTEND;VALUE=DATE:20251221
DTSTAMP:20260421T165145
CREATED:20251117T064008Z
LAST-MODIFIED:20251117T064557Z
UID:1284-1766188800-1766275199@heartwoodschool1.1212designteam.com
SUMMARY:Weather Make Up Days (if Needed)
DESCRIPTION:
URL:https://heartwoodschool1.1212designteam.com/event/weather-make-up-days-if-needed-2/
END:VEVENT
BEGIN:VEVENT
DTSTART;TZID=UTC:20251222T000000
DTEND;TZID=UTC:20260102T000000
DTSTAMP:20260421T165145
CREATED:20251031T020944Z
LAST-MODIFIED:20251031T020944Z
UID:1274-1766361600-1767312000@heartwoodschool1.1212designteam.com
SUMMARY:School Closed (School Office Closed)
DESCRIPTION:
URL:https://heartwoodschool1.1212designteam.com/event/school-closed-school-office-closed-2/
END:VEVENT
END:VCALENDAR